BEGIN:VCALENDAR
VERSION:2.0
PRODID:-//CCC - ECPv6.11.2//NONSGML v1.0//EN
CALSCALE:GREGORIAN
METHOD:PUBLISH
X-WR-CALNAME:CCC
X-ORIGINAL-URL:https://colleges.ccc.edu
X-WR-CALDESC:Events for CCC
REFRESH-INTERVAL;VALUE=DURATION:PT1H
X-Robots-Tag:noindex
X-PUBLISHED-TTL:PT1H
BEGIN:VTIMEZONE
TZID:America/Chicago
BEGIN:DAYLIGHT
TZOFFSETFROM:-0600
TZOFFSETTO:-0500
TZNAME:CDT
DTSTART:20250309T080000
END:DAYLIGHT
BEGIN:STANDARD
TZOFFSETFROM:-0500
TZOFFSETTO:-0600
TZNAME:CST
DTSTART:20251102T070000
END:STANDARD
END:VTIMEZONE
BEGIN:VEVENT
DTSTART;TZID=America/Chicago:20250806T100000
DTEND;TZID=America/Chicago:20250806T110000
DTSTAMP:20260422T070628
CREATED:20250805T142635Z
LAST-MODIFIED:20250805T142636Z
UID:10004427-1754474400-1754478000@colleges.ccc.edu
SUMMARY:Harold Washington: Partners in Education Info Session
DESCRIPTION:
URL:https://colleges.ccc.edu/event/partners-in-education-info-session-102/
CATEGORIES:Harold Washington
ATTACH;FMTTYPE=image/jpeg:https://colleges.ccc.edu/app/uploads/CHA-Calendar-Image-90uwMj.jpg
END:VEVENT
BEGIN:VEVENT
DTSTART;TZID=America/Chicago:20250806T120000
DTEND;TZID=America/Chicago:20250806T130000
DTSTAMP:20260422T070628
CREATED:20250805T142649Z
LAST-MODIFIED:20250805T142649Z
UID:10004426-1754481600-1754485200@colleges.ccc.edu
SUMMARY:Harold Washington: Partners in Education Info Session
DESCRIPTION:
URL:https://colleges.ccc.edu/event/partners-in-education-info-session-101/
CATEGORIES:Harold Washington
ATTACH;FMTTYPE=image/jpeg:https://colleges.ccc.edu/app/uploads/CHA-Calendar-Image-90uwMj.jpg
END:VEVENT
BEGIN:VEVENT
DTSTART;TZID=America/Chicago:20250807T100000
DTEND;TZID=America/Chicago:20250807T150000
DTSTAMP:20260422T070628
CREATED:20250804T145234Z
LAST-MODIFIED:20250804T145234Z
UID:10004418-1754560800-1754578800@colleges.ccc.edu
SUMMARY:Olive-Harvey: CHA Day (Partners in Education)
DESCRIPTION:
URL:https://colleges.ccc.edu/event/olive-harvey-cha-day-partners-in-education/
CATEGORIES:Olive-Harvey
ATTACH;FMTTYPE=image/jpeg:https://colleges.ccc.edu/app/uploads/OH_Calendar-Image_01-ksPc7V.jpg
END:VEVENT
BEGIN:VEVENT
DTSTART;TZID=America/Chicago:20250807T100000
DTEND;TZID=America/Chicago:20250807T150000
DTSTAMP:20260422T070628
CREATED:20250804T145244Z
LAST-MODIFIED:20250804T145244Z
UID:10004419-1754560800-1754578800@colleges.ccc.edu
SUMMARY:Olive-Harvey: CHA Day (Partners in Education)
DESCRIPTION:
URL:https://colleges.ccc.edu/event/olive-harvey-cha-day-partners-in-education-2/
CATEGORIES:Olive-Harvey
ATTACH;FMTTYPE=image/jpeg:https://colleges.ccc.edu/app/uploads/OH_Calendar-Image_01-ksPc7V.jpg
END:VEVENT
BEGIN:VEVENT
DTSTART;TZID=America/Chicago:20250807T183000
DTEND;TZID=America/Chicago:20250807T193000
DTSTAMP:20260422T070628
CREATED:20250521T193108Z
LAST-MODIFIED:20250521T193108Z
UID:10004104-1754591400-1754595000@colleges.ccc.edu
SUMMARY:Partners in Education Info Session
DESCRIPTION:
URL:https://colleges.ccc.edu/event/partners-in-education-info-session-78/
CATEGORIES:District-wide,Harold Washington,Harry S Truman,Kennedy-King,Malcolm X,Olive-Harvey,Richard J. Daley,Wilbur Wright
ATTACH;FMTTYPE=image/jpeg:https://colleges.ccc.edu/app/uploads/CHA-Calendar-Image.jpg
END:VEVENT
BEGIN:VEVENT
DTSTART;TZID=America/Chicago:20250813T100000
DTEND;TZID=America/Chicago:20250813T110000
DTSTAMP:20260422T070628
CREATED:20250723T195655Z
LAST-MODIFIED:20250723T195656Z
UID:10004382-1755079200-1755082800@colleges.ccc.edu
SUMMARY:Partners in Education Info Session
DESCRIPTION:
URL:https://colleges.ccc.edu/event/partners-in-education-info-session-99/
CATEGORIES:District-wide,Harold Washington,Harry S Truman,Kennedy-King,Malcolm X,Olive-Harvey,Richard J. Daley,Wilbur Wright
ATTACH;FMTTYPE=image/jpeg:https://colleges.ccc.edu/app/uploads/CHA-Calendar-Image-90uwMj.jpg
END:VEVENT
BEGIN:VEVENT
DTSTART;TZID=America/Chicago:20250813T120000
DTEND;TZID=America/Chicago:20250813T130000
DTSTAMP:20260422T070628
CREATED:20250723T200542Z
LAST-MODIFIED:20250804T203632Z
UID:10004383-1755086400-1755090000@colleges.ccc.edu
SUMMARY:Partners in Education Info Session
DESCRIPTION:
URL:https://colleges.ccc.edu/event/partners-in-education-info-session-100/
CATEGORIES:District-wide,Harold Washington,Harry S Truman,Kennedy-King,Malcolm X,Olive-Harvey,Richard J. Daley,Wilbur Wright
ATTACH;FMTTYPE=image/jpeg:https://colleges.ccc.edu/app/uploads/CHA-Calendar-Image-90uwMj.jpg
END:VEVENT
BEGIN:VEVENT
DTSTART;TZID=America/Chicago:20250814T183000
DTEND;TZID=America/Chicago:20250814T193000
DTSTAMP:20260422T070628
CREATED:20250723T195630Z
LAST-MODIFIED:20250723T195630Z
UID:10004381-1755196200-1755199800@colleges.ccc.edu
SUMMARY:Partners in Education Info Session
DESCRIPTION:
URL:https://colleges.ccc.edu/event/partners-in-education-info-session-98/
CATEGORIES:District-wide,Harold Washington,Harry S Truman,Kennedy-King,Malcolm X,Olive-Harvey,Richard J. Daley,Wilbur Wright
ATTACH;FMTTYPE=image/jpeg:https://colleges.ccc.edu/app/uploads/CHA-Calendar-Image-90uwMj.jpg
END:VEVENT
BEGIN:VEVENT
DTSTART;TZID=America/Chicago:20250827T100000
DTEND;TZID=America/Chicago:20250827T110000
DTSTAMP:20260422T070628
CREATED:20250703T155259Z
LAST-MODIFIED:20250703T155259Z
UID:10004298-1756288800-1756292400@colleges.ccc.edu
SUMMARY:Partners in Education Info Session
DESCRIPTION:
URL:https://colleges.ccc.edu/event/partners-in-education-info-session-97/
CATEGORIES:District-wide
ATTACH;FMTTYPE=image/jpeg:https://colleges.ccc.edu/app/uploads/CHA-Calendar-Image.jpg
END:VEVENT
BEGIN:VEVENT
DTSTART;TZID=America/Chicago:20250827T120000
DTEND;TZID=America/Chicago:20250827T130000
DTSTAMP:20260422T070628
CREATED:20250703T155238Z
LAST-MODIFIED:20250703T155238Z
UID:10004297-1756296000-1756299600@colleges.ccc.edu
SUMMARY:Partners in Education Info Session
DESCRIPTION:
URL:https://colleges.ccc.edu/event/partners-in-education-info-session-96/
CATEGORIES:District-wide
ATTACH;FMTTYPE=image/jpeg:https://colleges.ccc.edu/app/uploads/CHA-Calendar-Image.jpg
END:VEVENT
END:VCALENDAR