BEGIN:VCALENDAR
VERSION:2.0
PRODID:-//CCC - ECPv6.11.2//NONSGML v1.0//EN
CALSCALE:GREGORIAN
METHOD:PUBLISH
X-ORIGINAL-URL:https://colleges.ccc.edu
X-WR-CALDESC:Events for CCC
REFRESH-INTERVAL;VALUE=DURATION:PT1H
X-Robots-Tag:noindex
X-PUBLISHED-TTL:PT1H
BEGIN:VTIMEZONE
TZID:America/Chicago
BEGIN:DAYLIGHT
TZOFFSETFROM:-0600
TZOFFSETTO:-0500
TZNAME:CDT
DTSTART:20260308T080000
END:DAYLIGHT
BEGIN:STANDARD
TZOFFSETFROM:-0500
TZOFFSETTO:-0600
TZNAME:CST
DTSTART:20261101T070000
END:STANDARD
END:VTIMEZONE
BEGIN:VEVENT
DTSTART;TZID=America/Chicago:20260210T110000
DTEND;TZID=America/Chicago:20260210T130000
DTSTAMP:20260420T220858
CREATED:20260202T211034Z
LAST-MODIFIED:20260202T211035Z
UID:10005988-1770721200-1770728400@colleges.ccc.edu
SUMMARY:Truman: Paint the Culture - Black History Month Art Jam
DESCRIPTION:
URL:https://colleges.ccc.edu/event/truman-paint-the-culture-black-history-month-art-jam/
CATEGORIES:Harry S Truman
ATTACH;FMTTYPE=image/png:https://colleges.ccc.edu/app/uploads/BHM_Calendar-Images_HT-1fmAXf.png
END:VEVENT
BEGIN:VEVENT
DTSTART;TZID=America/Chicago:20260219T110000
DTEND;TZID=America/Chicago:20260219T133000
DTSTAMP:20260420T220858
CREATED:20260202T214734Z
LAST-MODIFIED:20260202T214734Z
UID:10005999-1771498800-1771507800@colleges.ccc.edu
SUMMARY:Truman: Roots & Rhythms - The Evolution of the Chicago Sound
DESCRIPTION:
URL:https://colleges.ccc.edu/event/truman-roots-rhythms-the-evolution-of-the-chicago-sound/
CATEGORIES:Harry S Truman
ATTACH;FMTTYPE=image/png:https://colleges.ccc.edu/app/uploads/BHM_Calendar-Images_HT-1fmAXf.png
END:VEVENT
BEGIN:VEVENT
DTSTART;TZID=America/Chicago:20260225T120000
DTEND;TZID=America/Chicago:20260225T140000
DTSTAMP:20260420T220858
CREATED:20260202T214716Z
LAST-MODIFIED:20260202T214717Z
UID:10005998-1772020800-1772028000@colleges.ccc.edu
SUMMARY:Truman: Roots & Rhythms - Foundations of DJing
DESCRIPTION:
URL:https://colleges.ccc.edu/event/truman-roots-rhythms-foundations-of-djing/
CATEGORIES:Harry S Truman
ATTACH;FMTTYPE=image/png:https://colleges.ccc.edu/app/uploads/BHM_Calendar-Images_HT-1fmAXf.png
END:VEVENT
END:VCALENDAR