BEGIN:VCALENDAR
VERSION:2.0
PRODID:-//CCC - ECPv6.11.2//NONSGML v1.0//EN
CALSCALE:GREGORIAN
METHOD:PUBLISH
X-ORIGINAL-URL:https://colleges.ccc.edu
X-WR-CALDESC:Events for CCC
REFRESH-INTERVAL;VALUE=DURATION:PT1H
X-Robots-Tag:noindex
X-PUBLISHED-TTL:PT1H
BEGIN:VTIMEZONE
TZID:America/Chicago
BEGIN:DAYLIGHT
TZOFFSETFROM:-0600
TZOFFSETTO:-0500
TZNAME:CDT
DTSTART:20260308T080000
END:DAYLIGHT
BEGIN:STANDARD
TZOFFSETFROM:-0500
TZOFFSETTO:-0600
TZNAME:CST
DTSTART:20261101T070000
END:STANDARD
END:VTIMEZONE
BEGIN:VEVENT
DTSTART;TZID=America/Chicago:20260423T103000
DTEND;TZID=America/Chicago:20260423T120000
DTSTAMP:20260422T124543
CREATED:20260227T172848Z
LAST-MODIFIED:20260227T172849Z
UID:10006109-1776940200-1776945600@colleges.ccc.edu
SUMMARY:Kennedy-King: DTI Career Fair
DESCRIPTION:
URL:https://colleges.ccc.edu/event/kennedy-king-dti-career-fair/
CATEGORIES:Kennedy-King
ATTACH;FMTTYPE=image/jpeg:https://colleges.ccc.edu/app/uploads/KK_Calendar-Image_03-ZEbNH8.jpg
END:VEVENT
BEGIN:VEVENT
DTSTART;TZID=America/Chicago:20260423T113000
DTEND;TZID=America/Chicago:20260423T140000
DTSTAMP:20260422T124543
CREATED:20260409T163620Z
LAST-MODIFIED:20260409T163620Z
UID:10006316-1776943800-1776952800@colleges.ccc.edu
SUMMARY:Harold Washington: Entrepreneurship Fair
DESCRIPTION:
URL:https://colleges.ccc.edu/event/harold-washington-entrepreneurship-fair/
CATEGORIES:District-wide,Harold Washington
ATTACH;FMTTYPE=image/png:https://colleges.ccc.edu/app/uploads/CalendarImage_CareerCenter_4_HW-6aPoGM.png
END:VEVENT
END:VCALENDAR