BEGIN:VCALENDAR
VERSION:2.0
PRODID:-//CCC - ECPv6.11.2//NONSGML v1.0//EN
CALSCALE:GREGORIAN
METHOD:PUBLISH
X-ORIGINAL-URL:https://colleges.ccc.edu
X-WR-CALDESC:Events for CCC
REFRESH-INTERVAL;VALUE=DURATION:PT1H
X-Robots-Tag:noindex
X-PUBLISHED-TTL:PT1H
BEGIN:VTIMEZONE
TZID:America/Chicago
BEGIN:DAYLIGHT
TZOFFSETFROM:-0600
TZOFFSETTO:-0500
TZNAME:CDT
DTSTART:20250309T080000
END:DAYLIGHT
BEGIN:STANDARD
TZOFFSETFROM:-0500
TZOFFSETTO:-0600
TZNAME:CST
DTSTART:20251102T070000
END:STANDARD
END:VTIMEZONE
BEGIN:VEVENT
DTSTART;TZID=America/Chicago:20250506T090000
DTEND;TZID=America/Chicago:20250506T130000
DTSTAMP:20260422T044841
CREATED:20250218T222454Z
LAST-MODIFIED:20250218T222454Z
UID:10003458-1746522000-1746536400@colleges.ccc.edu
SUMMARY:2025 CPS-City Colleges Enrollment Days
DESCRIPTION:
URL:https://colleges.ccc.edu/event/2025-cps-city-colleges-enrollment-days/
CATEGORIES:District-wide
ATTACH;FMTTYPE=image/jpeg:https://colleges.ccc.edu/app/uploads/Chicago-Roadmap-Calendar.jpg
END:VEVENT
BEGIN:VEVENT
DTSTART;TZID=America/Chicago:20250507T103000
DTEND;TZID=America/Chicago:20250507T130000
DTSTAMP:20260422T044841
CREATED:20250416T213333Z
LAST-MODIFIED:20250416T213334Z
UID:10003993-1746613800-1746622800@colleges.ccc.edu
SUMMARY:Harold Washington: New Student Orientation
DESCRIPTION:
URL:https://colleges.ccc.edu/event/harold-washington-new-student-orientation-82/
CATEGORIES:Harold Washington
ATTACH;FMTTYPE=image/jpeg:https://colleges.ccc.edu/app/uploads/HW_Calendar-Image_02.jpg
END:VEVENT
BEGIN:VEVENT
DTSTART;TZID=America/Chicago:20250508T150000
DTEND;TZID=America/Chicago:20250508T170000
DTSTAMP:20260422T044841
CREATED:20250416T213240Z
LAST-MODIFIED:20250416T213240Z
UID:10003992-1746716400-1746723600@colleges.ccc.edu
SUMMARY:Harold Washington: New Student Orientation
DESCRIPTION:
URL:https://colleges.ccc.edu/event/harold-washington-new-student-orientation-81/
CATEGORIES:Harold Washington
ATTACH;FMTTYPE=image/jpeg:https://colleges.ccc.edu/app/uploads/HW_Calendar-Image_02.jpg
END:VEVENT
BEGIN:VEVENT
DTSTART;TZID=America/Chicago:20250514T103000
DTEND;TZID=America/Chicago:20250514T130000
DTSTAMP:20260422T044841
CREATED:20250416T213206Z
LAST-MODIFIED:20250416T213206Z
UID:10003990-1747218600-1747227600@colleges.ccc.edu
SUMMARY:Harold Washington: New Student Orientation
DESCRIPTION:
URL:https://colleges.ccc.edu/event/harold-washington-new-student-orientation-80/
CATEGORIES:Harold Washington
ATTACH;FMTTYPE=image/jpeg:https://colleges.ccc.edu/app/uploads/HW_Calendar-Image_02.jpg
END:VEVENT
BEGIN:VEVENT
DTSTART;TZID=America/Chicago:20250515T150000
DTEND;TZID=America/Chicago:20250515T170000
DTSTAMP:20260422T044841
CREATED:20250416T213121Z
LAST-MODIFIED:20250416T213121Z
UID:10003989-1747321200-1747328400@colleges.ccc.edu
SUMMARY:Harold Washington: New Student Orientation
DESCRIPTION:
URL:https://colleges.ccc.edu/event/harold-washington-new-student-orientation-79/
CATEGORIES:Harold Washington
ATTACH;FMTTYPE=image/jpeg:https://colleges.ccc.edu/app/uploads/HW_Calendar-Image_02.jpg
END:VEVENT
BEGIN:VEVENT
DTSTART;TZID=America/Chicago:20250521T103000
DTEND;TZID=America/Chicago:20250521T130000
DTSTAMP:20260422T044841
CREATED:20250506T154601Z
LAST-MODIFIED:20250506T154601Z
UID:10004037-1747823400-1747832400@colleges.ccc.edu
SUMMARY:Harold Washington: New Student Orientation
DESCRIPTION:
URL:https://colleges.ccc.edu/event/harold-washington-new-student-orientation-84/
CATEGORIES:Harold Washington
ATTACH;FMTTYPE=image/jpeg:https://colleges.ccc.edu/app/uploads/HW_Calendar-Image_02.jpg
END:VEVENT
BEGIN:VEVENT
DTSTART;TZID=America/Chicago:20250522T150000
DTEND;TZID=America/Chicago:20250522T170000
DTSTAMP:20260422T044841
CREATED:20250506T153743Z
LAST-MODIFIED:20250506T153744Z
UID:10004033-1747926000-1747933200@colleges.ccc.edu
SUMMARY:Harold Washington: New Student Orientation
DESCRIPTION:
URL:https://colleges.ccc.edu/event/harold-washington-new-student-orientation-83/
CATEGORIES:Harold Washington
ATTACH;FMTTYPE=image/jpeg:https://colleges.ccc.edu/app/uploads/HW_Calendar-Image_02.jpg
END:VEVENT
BEGIN:VEVENT
DTSTART;TZID=America/Chicago:20250523T103000
DTEND;TZID=America/Chicago:20250523T130000
DTSTAMP:20260422T044841
CREATED:20250506T153716Z
LAST-MODIFIED:20250506T153716Z
UID:10004032-1747996200-1748005200@colleges.ccc.edu
SUMMARY:Harold Washington: New Student Orientation (Virtual)
DESCRIPTION:
URL:https://colleges.ccc.edu/event/harold-washington-new-student-orientation-virtual-8/
CATEGORIES:Harold Washington
ATTACH;FMTTYPE=image/jpeg:https://colleges.ccc.edu/app/uploads/HW_Calendar-Image_02.jpg
END:VEVENT
END:VCALENDAR